BEGIN:VCALENDAR
VERSION:2.0
PRODID:-//caringforcambodia.org//NONSGML kigkonsult.se iCalcreator 2.30.10/
 /
CALSCALE:GREGORIAN
METHOD:PUBLISH
UID:0110468a-65bb-44fd-b856-f6aca64dede2
X-WR-CALDESC:Join us as Caring for Cambodia celebrates the return of its si
 gnature fundraising gala\, An Evening for Orange! We missed you all so muc
 h last year when we were forced to cancel this event. So dust off your for
 mal wear and get your friends out for a night on the town! This is going t
 o be an event to remember. \n\nWe're determined to make this year's event 
 even more special than usual so we hope you'll be in Austin to help us rai
 se a glass and toast the amazing efforts of our donors\, our volunteers\, 
 and our staff for not only meeting the challenge posed by Covid-19 but for
  continuing to adapt to serve the 7\,000 kids who depend on us each year. 
  Schools are closed but the learning doesn't stop for these kids thanks to
  you and our teachers. \n. \nIf you're interested in sponsorship\, auction
  item donations\, or volunteering for the event\, please contact events@ca
 ringforcambodia.org. We're so excited to see everyone again!\n\nArt/Photo 
 Credit: Thank you to Michele Helm of Three Muses for the beautiful artwork
  and to Edna Cooper (www.zaharagallery.com) for the Apsara dancer photogra
 ph.
X-WR-RELCALID:f5545adeb20c39ca7a49867063eafbb5
X-WR-TIMEZONE:America/Chicago
BEGIN:VTIMEZONE
TZID:America/Chicago
BEGIN:STANDARD
TZNAME:CST
DTSTART:20201101T020000
TZOFFSETFROM:-0500
TZOFFSETTO:-0600
RDATE:20211107T020000
RDATE:20221106T020000
END:STANDARD
BEGIN:DAYLIGHT
TZNAME:CDT
DTSTART:20210314T020000
TZOFFSETFROM:-0600
TZOFFSETTO:-0500
RDATE:20220313T020000
RDATE:20230312T020000
END:DAYLIGHT
END:VTIMEZONE
BEGIN:VEVENT
UID:e34d3e20-25d9-48f2-9700-e19b43a19df1
DTSTAMP:20260420T072240Z
DESCRIPTION:Join us as Caring for Cambodia celebrates the return of its sig
 nature fundraising gala\, An Evening for Orange! We missed you all so much
  last year when we were forced to cancel this event. So dust off your form
 al wear and get your friends out for a night on the town! This is going to
  be an event to remember. \n\nWe're determined to make this year's event e
 ven more special than usual so we hope you'll be in Austin to help us rais
 e a glass and toast the amazing efforts of our donors\, our volunteers\, a
 nd our staff for not only meeting the challenge posed by Covid-19 but for 
 continuing to adapt to serve the 7\,000 kids who depend on us each year.  
 Schools are closed but the learning doesn't stop for these kids thanks to 
 you and our teachers. \n. \nIf you're interested in sponsorship\, auction 
 item donations\, or volunteering for the event\, please contact events@car
 ingforcambodia.org. We're so excited to see everyone again!\n\nArt/Photo C
 redit: Thank you to Michele Helm of Three Muses for the beautiful artwork 
 and to Edna Cooper (www.zaharagallery.com) for the Apsara dancer photograp
 h.
DTSTART;TZID=America/Chicago:20211029T173000
DTEND;TZID=America/Chicago:20211030T220000
LOCATION:Sonesta Bee Cave
SUMMARY:An Evening for Orange in Austin\, TX
END:VEVENT
END:VCALENDAR
